BEGIN:VCALENDAR
VERSION:2.0
PRODID:SchoolNow
CALSCALE:GREGORIAN
BEGIN:VEVENT
UID:0cea25a6-5140-11f0-aeb8-0a58a9feac02
DTSTAMP:20250624T211318Z
SUMMARY:Last Day to Withdraw from a Mini-Session B Course or the College wi
 th a "W"
URL;VALUE=URI:https://www.nunez.edu/calendar/8349433/last-day-to-withdraw-f
 rom-a-mini-session-b-course-or-the-college-with-a-w
DTSTART;VALUE=DATE:20260718
DTEND;VALUE=DATE:20260719
END:VEVENT
END:VCALENDAR
