BEGIN:VCALENDAR
VERSION:2.0
PRODID:SchoolNow
CALSCALE:GREGORIAN
BEGIN:VEVENT
UID:16dbfd0a-5140-11f0-a4a7-029333af7875
DTSTAMP:20250624T211335Z
SUMMARY:Last Day of Class - Mini-Session B
URL;VALUE=URI:https://www.nunez.edu/calendar/8349434/last-day-of-class-mini
 -session-b
DTSTART;VALUE=DATE:20260728
DTEND;VALUE=DATE:20260729
END:VEVENT
END:VCALENDAR
