BEGIN:VCALENDAR
VERSION:2.0
PRODID:SchoolNow
CALSCALE:GREGORIAN
BEGIN:VEVENT
UID:2019c2da-5140-11f0-8ff6-0a58a9feac02
DTSTAMP:20250624T211350Z
SUMMARY:Final Exams - Mini-Session B
URL;VALUE=URI:https://www.nunez.edu/calendar/8349435/final-exams-mini-sessi
 on-b
DTSTART;VALUE=DATE:20260729
DTEND;VALUE=DATE:20260730
END:VEVENT
END:VCALENDAR
