BEGIN:VCALENDAR
VERSION:2.0
PRODID:SchoolNow
CALSCALE:GREGORIAN
BEGIN:VEVENT
UID:694b3098-5144-11f0-ab40-029333af7875
DTSTAMP:20250624T214431Z
SUMMARY:Final Payment Deadline - online payment - Mini-Session A
URL;VALUE=URI:https://www.nunez.edu/calendar/8350240/final-payment-deadline
 -online-payment-mini-session-a
DTSTART:20260602T045900Z
DTEND:20260602T050000Z
END:VEVENT
END:VCALENDAR
