BEGIN:VCALENDAR
VERSION:2.0
PRODID:SchoolNow
CALSCALE:GREGORIAN
BEGIN:VEVENT
UID:62a7a15a-3fea-11f1-814a-0a58a9feac02
DTSTAMP:20260424T143213Z
SUMMARY:Spring Mini-Session A - Final Grades and IBC reporting due
URL;VALUE=URI:https://www.nunez.edu/calendar/9016584/spring-mini-session-a-
 final-grades-and-ibc-reporting-due
DTSTART:20260424T165900Z
DTEND:20260424T170000Z
END:VEVENT
END:VCALENDAR
