BEGIN:VCALENDAR
VERSION:2.0
PRODID:SchoolNow
CALSCALE:GREGORIAN
BEGIN:VEVENT
UID:0652bca8-3fec-11f1-9448-0a58a9feac02
DTSTAMP:20260424T144357Z
SUMMARY:Spring Mini-Session B - 100% Tuition & Fees Adjustment Period
URL;VALUE=URI:https://www.nunez.edu/calendar/9016591/spring-mini-session-b-
 100-tuition-fees-adjustment-period
DTSTART;VALUE=DATE:20260424
DTEND;VALUE=DATE:20260425
END:VEVENT
END:VCALENDAR
