BEGIN:VCALENDAR
VERSION:2.0
PRODID:SchoolNow
CALSCALE:GREGORIAN
BEGIN:VEVENT
UID:6c63b31a-5818-11f0-8ab2-0a58a9feac02
DTSTAMP:20250825T164112Z
SUMMARY:GWO Basic Safety Training
URL;VALUE=URI:https://www.nunez.edu/gwo-wind/calendar/8381002/gwo-basic-saf
 ety-training
DTSTART:20250929T130000Z
DTEND:20251002T220000Z
END:VEVENT
END:VCALENDAR
