BEGIN:VCALENDAR
VERSION:2.0
PRODID:SchoolNow
CALSCALE:GREGORIAN
BEGIN:VEVENT
UID:b109f31c-5818-11f0-adb8-0a58a9feac02
DTSTAMP:20260330T155124Z
SUMMARY:GWO Advanced Rescue Training
LOCATION:Fine Arts Building - Room 112
URL;VALUE=URI:https://www.nunez.edu/gwo-wind/calendar/8381003/gwo-advanced-
 rescue-training
DTSTART:20260615T130000Z
DTEND:20260617T220000Z
END:VEVENT
END:VCALENDAR
