BEGIN:VCALENDAR
VERSION:2.0
PRODID:SchoolNow
CALSCALE:GREGORIAN
BEGIN:VEVENT
UID:f0827032-5818-11f0-aae6-0a58a9feac02
DTSTAMP:20250721T181751Z
SUMMARY:GWO Enhanced First Aid
URL;VALUE=URI:https://www.nunez.edu/gwo-wind/calendar/8381004/gwo-enhanced-
 first-aid
DTSTART:20250908T130000Z
DTEND:20250910T220000Z
END:VEVENT
END:VCALENDAR
