BEGIN:VCALENDAR
VERSION:2.0
PRODID:SchoolNow
CALSCALE:GREGORIAN
BEGIN:VEVENT
UID:8aed67de-29f2-11f1-8f27-0a58a9feac02
DTSTAMP:20260330T155110Z
SUMMARY:GWO Basic Safety Training
LOCATION:Fine Arts Building - Room 112
URL;VALUE=URI:https://www.nunez.edu/gwo-wind/calendar/8949828/gwo-basic-saf
 ety-training
DTSTART:20260608T130000Z
DTEND:20260611T220000Z
END:VEVENT
END:VCALENDAR
