BEGIN:VCALENDAR
VERSION:2.0
PRODID:SchoolNow
CALSCALE:GREGORIAN
BEGIN:VEVENT
UID:94826a2e-29f2-11f1-99ca-0a58a9feac02
DTSTAMP:20260330T155149Z
SUMMARY:GWO Basic Safety Training
LOCATION:Fine Arts Building - Room 112
URL;VALUE=URI:https://www.nunez.edu/gwo-wind/calendar/8949829/gwo-basic-saf
 ety-training
DTSTART:20260706T130000Z
DTEND:20260709T220000Z
END:VEVENT
END:VCALENDAR
