BEGIN:VCALENDAR
VERSION:2.0
PRODID:SchoolNow
CALSCALE:GREGORIAN
BEGIN:VEVENT
UID:9de5980c-29f2-11f1-90b8-0ebf0ec61a4f
DTSTAMP:20260330T155215Z
SUMMARY:GWO Basic Safety Training
LOCATION:Fine Arts Building - Room 112
URL;VALUE=URI:https://www.nunez.edu/gwo-wind/calendar/8949830/gwo-basic-saf
 ety-training-clone
DTSTART:20260806T130000Z
DTEND:20260809T220000Z
END:VEVENT
END:VCALENDAR
