BEGIN:VCALENDAR
VERSION:2.0
PRODID:SchoolNow
CALSCALE:GREGORIAN
BEGIN:VEVENT
UID:e1b85baa-b03a-11f0-b531-0affc3bff5eb
DTSTAMP:20251023T180539Z
SUMMARY:Sixth Annual Battle of New Orleans Historical Symposium - Friday Ev
 ent
LOCATION:Nunez Community College Auditorium (3710 Paris Road\, Chalmette\, 
 LA)
URL;VALUE=URI:https://www.nunez.edu/institutional-advancement/calendar/8745
 308/sixth-annual-battle-of-new-orleans-historical-symposium-friday-event
DTSTART;VALUE=DATE:20190111
DTEND;VALUE=DATE:20190112
END:VEVENT
END:VCALENDAR
