BEGIN:VCALENDAR
VERSION:2.0
PRODID:SchoolNow
CALSCALE:GREGORIAN
BEGIN:VEVENT
UID:e1b9ec4a-b03a-11f0-ae69-0affc3bff5eb
DTSTAMP:20251023T180539Z
SUMMARY:Sixth Annual Battle of New Orleans Historical Symposium - Saturday 
 Event
LOCATION:St Bernard Parish Government Complex\, Council Chambers (8201 W. J
 udge Perez Dr\, Chalmette\, LA)
URL;VALUE=URI:https://www.nunez.edu/institutional-advancement/calendar/8745
 309/sixth-annual-battle-of-new-orleans-historical-symposium-friday-event-c
 lone
DTSTART;VALUE=DATE:20190112
DTEND;VALUE=DATE:20190113
END:VEVENT
END:VCALENDAR
