BEGIN:VCALENDAR
VERSION:2.0
PRODID:SchoolNow
CALSCALE:GREGORIAN
BEGIN:VEVENT
UID:e1bb5ada-b03a-11f0-ba73-0affc3bff5eb
DTSTAMP:20251023T180539Z
SUMMARY:History Lectures Series-Women and the Battle of New Orleans
LOCATION:Nunez Community College Auditorium
URL;VALUE=URI:https://www.nunez.edu/institutional-advancement/calendar/8745
 310/history-lectures-series-women-and-the-battle-of-new-orleans
DTSTART:20181204T010000Z
DTEND:20181204T030000Z
END:VEVENT
END:VCALENDAR
