BEGIN:VCALENDAR
VERSION:2.0
PRODID:SchoolNow
CALSCALE:GREGORIAN
BEGIN:VEVENT
UID:e1bce13e-b03a-11f0-940e-0affc3bff5eb
DTSTAMP:20251023T180539Z
SUMMARY:History Lecture Series-Exploring the Complex Relationship Between N
 azis and Art
LOCATION:Nunez Community College Auditorium
URL;VALUE=URI:https://www.nunez.edu/institutional-advancement/calendar/8745
 311/history-lecture-series-exploring-the-complex-relationship-between-nazi
 s-and-art
DTSTART:20190205T010000Z
DTEND:20190205T030000Z
END:VEVENT
END:VCALENDAR
