BEGIN:VCALENDAR
VERSION:2.0
PRODID:SchoolNow
CALSCALE:GREGORIAN
BEGIN:VEVENT
UID:e1bf6724-b03a-11f0-b9a5-0affc3bff5eb
DTSTAMP:20251023T180539Z
SUMMARY:History Lecture Series-Who is Saint Bernard: Exploring the Patron S
 aint of St. Bernard Parish
LOCATION:Nunez Community College Auditorium
URL;VALUE=URI:https://www.nunez.edu/institutional-advancement/calendar/8745
 312/history-lecture-series-who-is-saint-bernard-exploring-the-patron-saint
 -of-st-bernard-parish
DTSTART:20190312T000000Z
DTEND:20190312T020000Z
END:VEVENT
END:VCALENDAR
