BEGIN:VCALENDAR
VERSION:2.0
PRODID:SchoolNow
CALSCALE:GREGORIAN
BEGIN:VEVENT
UID:e1c150c0-b03a-11f0-9b43-0affc3bff5eb
DTSTAMP:20251023T180539Z
SUMMARY:History Lecture Series-Lost Cemeteries of New Orleans
LOCATION:Nunez Community College Auditorium
URL;VALUE=URI:https://www.nunez.edu/institutional-advancement/calendar/8745
 313/history-lecture-series-lost-cemeteries-of-new-orleans
DTSTART:20190402T000000Z
DTEND:20190402T020000Z
END:VEVENT
END:VCALENDAR
