BEGIN:VCALENDAR
VERSION:2.0
PRODID:SchoolNow
CALSCALE:GREGORIAN
BEGIN:VEVENT
UID:e1c39af6-b03a-11f0-a0fb-0affc3bff5eb
DTSTAMP:20251023T180539Z
SUMMARY:History Lecture Series-Suprise Topic
LOCATION:Nunez Community College Auditorium
URL;VALUE=URI:https://www.nunez.edu/institutional-advancement/calendar/8745
 314/history-lecture-series-suprise-topic
DTSTART:20190507T000000Z
DTEND:20190507T020000Z
END:VEVENT
END:VCALENDAR
