BEGIN:VCALENDAR
VERSION:2.0
PRODID:SchoolNow
CALSCALE:GREGORIAN
BEGIN:VEVENT
UID:e1c60868-b03a-11f0-841b-0affc3bff5eb
DTSTAMP:20251023T180539Z
SUMMARY:'Pelicans & Pearls' - Nunez Foundation Gala
LOCATION:Docville Farm
URL;VALUE=URI:https://www.nunez.edu/institutional-advancement/calendar/8745
 315/pelicans-pearls-nunez-foundation-gala
DTSTART:20190126T230000Z
DTEND:20190127T020000Z
END:VEVENT
END:VCALENDAR
