BEGIN:VCALENDAR
VERSION:2.0
PRODID:SchoolNow
CALSCALE:GREGORIAN
BEGIN:VEVENT
UID:e1c79584-b03a-11f0-a6ce-0affc3bff5eb
DTSTAMP:20251023T180539Z
SUMMARY:Battle of New Orleans Symposium
LOCATION:Nunez Community College Auditorium
URL;VALUE=URI:https://www.nunez.edu/institutional-advancement/calendar/8745
 316/battle-of-new-orleans-symposium
DTSTART:20200110T160000Z
DTEND:20200110T220000Z
END:VEVENT
END:VCALENDAR
