BEGIN:VCALENDAR
VERSION:2.0
PRODID:SchoolNow
CALSCALE:GREGORIAN
BEGIN:VEVENT
UID:e1c9327c-b03a-11f0-a093-0affc3bff5eb
DTSTAMP:20251023T180539Z
SUMMARY:Battle of New Orleans Symposium
LOCATION:40 Arpent Wetlands Observatory
URL;VALUE=URI:https://www.nunez.edu/institutional-advancement/calendar/8745
 317/battle-of-new-orleans-symposium
DTSTART:20200111T180000Z
DTEND:20200111T193000Z
END:VEVENT
END:VCALENDAR
