BEGIN:VCALENDAR
VERSION:2.0
PRODID:SchoolNow
CALSCALE:GREGORIAN
BEGIN:VEVENT
UID:e1cae11c-b03a-11f0-8df5-0affc3bff5eb
DTSTAMP:20251023T180539Z
SUMMARY:History Lecture Series:  The Sicilian Migration and the Transformat
 ion of New Orleans Cuisine
LOCATION:Nunez Auditorium
URL;VALUE=URI:https://www.nunez.edu/institutional-advancement/calendar/8745
 318/history-lecture-series-the-sicilian-migration-and-the-transformation-o
 f-new-orleans-cuisine
DTSTART:20220920T233000Z
DTEND:20220921T010000Z
END:VEVENT
END:VCALENDAR
