BEGIN:VCALENDAR
VERSION:2.0
PRODID:SchoolNow
CALSCALE:GREGORIAN
BEGIN:VEVENT
UID:e1cde858-b03a-11f0-9480-0affc3bff5eb
DTSTAMP:20251023T180539Z
SUMMARY:History Lecture Series:  Heritage and Culture of the Philippine Com
 munity
LOCATION:Nunez Community College Auditorium
URL;VALUE=URI:https://www.nunez.edu/institutional-advancement/calendar/8745
 319/history-lecture-series-heritage-and-culture-of-the-philippine-communit
 y
DTSTART:20221018T233000Z
DTEND:20221019T010000Z
END:VEVENT
END:VCALENDAR
