BEGIN:VCALENDAR
VERSION:2.0
PRODID:SchoolNow
CALSCALE:GREGORIAN
BEGIN:VEVENT
UID:d4af1aa2-9c15-11ed-beee-0e32beac629f
DTSTAMP:20240116T220359Z
SUMMARY:Astro Camp - Grades 3-6
LOCATION:Culinary Cafe
URL;VALUE=URI:https://www.nunez.edu/steam/calendar/3687670/astro-camp-grade
 s-3-6
DTSTART:20240708T140000Z
DTEND:20240712T200000Z
END:VEVENT
END:VCALENDAR
