BEGIN:VCALENDAR
VERSION:2.0
PRODID:SchoolNow
CALSCALE:GREGORIAN
BEGIN:VEVENT
UID:7cce5878-a941-11ed-8731-0e7466cd2dbd
DTSTAMP:20230504T153555Z
SUMMARY:Red Cross Babysitter Certification Class
LOCATION:Culinary Cafe
URL;VALUE=URI:https://www.nunez.edu/steam/calendar/3734014/red-cross-babysi
 tter-certification-class-clone-clone
DTSTART:20230524T140000Z
DTEND:20230525T183000Z
END:VEVENT
END:VCALENDAR
