BEGIN:VCALENDAR
VERSION:2.0
PRODID:SchoolNow
CALSCALE:GREGORIAN
BEGIN:VEVENT
UID:85dadad6-b9d6-11ed-81a2-0e97e82ea179
DTSTAMP:20230504T153333Z
SUMMARY:Drone Class - Wednesday Evenings
LOCATION:Kane Technology Building Room A158
URL;VALUE=URI:https://www.nunez.edu/steam/calendar/3811048/drone-class-wedn
 esday-evenings
DTSTART:20230419T223000Z
DTEND:20230525T010000Z
END:VEVENT
END:VCALENDAR
