BEGIN:VCALENDAR
VERSION:2.0
PRODID:SchoolNow
CALSCALE:GREGORIAN
BEGIN:VEVENT
UID:646cf7a0-5000-11ef-891a-0e2d80489dd7
DTSTAMP:20240801T122008Z
SUMMARY:FIRST Lego League Open House
LOCATION:Culinary Cafe in Kane Building
URL;VALUE=URI:https://www.nunez.edu/steam/calendar/6338746/first-lego-leagu
 e-open-house
DTSTART:20240806T230000Z
DTEND:20240807T000000Z
END:VEVENT
END:VCALENDAR
